BEGIN:VCALENDAR
PRODID:-//eluceo/ical//2.0/EN
VERSION:2.0
CALSCALE:GREGORIAN
BEGIN:VEVENT
UID:2842623c5026cf7dc958cca53e20c7af
DTSTAMP:20260421T081743Z
SUMMARY:Oberenegg (1926 m)
DESCRIPTION:Menu: Cette première sortie de l'année nous emmènera au Vani
 l Blanc\, dans les Préalpes fribourgeoises. La randonnée sera suivie de 
 l'assemblée générale de notre association et d'un repas dans un restaur
 ant de la région (infos à venir).\n\n\n\n\nRendez-vous\n\n8h30 à la gar
 e d'Estavannens (46.573569/7.086530) hors village\, en face de l'entrepris
 e Bultech. Nous nous regrouperons à cet endroit\, compèterons les voitur
 es et poursuivrons jusqu'au village d'Albeuve. L'enneigement détermine l
 e point de départ exact de la course\, sur les hauts d'Albeuve. Il faut 
 compter avec environ 1000m de dénivelé et 2h de montée.\n\nMatériel\n\
 nDVA\, pelle\, peaux\, sonde\, boisson et en-cas\, maillot de rechange. V
 érifiez l'état de votre matériel (encollage des peaux\, fonctionnement 
 des fixations\, batterie DVA\, etc).\n\n\n
URL:https://rando.polaris.rotary.ch/it/agenda/show/93284
DTSTART;TZID=Europe/Zurich:20190119T083000
DTEND;TZID=Europe/Zurich:20190119T143000
LOCATION:Abländchen\, FR
CATEGORIES:Rotary
END:VEVENT
BEGIN:VTIMEZONE
TZID:Europe/Zurich
BEGIN:STANDARD
DTSTART:20190119T083000
TZNAME:CET
TZOFFSETTO:+0100
TZOFFSETFROM:+0100
END:STANDARD
END:VTIMEZONE
END:VCALENDAR
