BEGIN:VCALENDAR
PRODID:-//eluceo/ical//2.0/EN
VERSION:2.0
CALSCALE:GREGORIAN
BEGIN:VEVENT
UID:9b89abff86ce709f6d27889b147f19d2
DTSTAMP:20260421T083919Z
SUMMARY:Bürglen (2165 m) (Gantrisch)
DESCRIPTION:Sortie au Bürglen (2165m) dans le parc naturel du Gäntrisch\,
  le samedi 18 janvier 2020 Sous la conduite experte de Jean-Michel Nicklè
 s\, la petite colonne des dix participants dont une dame\, Suzanne Cornaz\
 , part du parking de la Gantrischhuette en longeant la vallée de la Kalte
  Sense pour atteindre\, à flanc de coteau et sous quelques gueules de bal
 eines\, le Morgetenpass (1959). L’accès au col nécessite les couteaux 
 car un passage étroit près d’un rocher n’est pas tout simple à fran
 chir. Les quelques centimètres de neige tombés la veille nous permettent
  de laisser nos skis pour atteindre\, assez facilement\, le sommet du Bür
 glen. Comme la météo est parfaite\, nous jouissons d’un panorama formi
 dable autant sur les Alpes bernoises et valaisannes que sur les crêtes du
  Jura. Une première descente à ski pour revenir sous le col puis reprend
 re une courte montée du côté du Gäntrisch afin d’entamer la récompe
 nse de tout « peaudephoqueur »\, la descente dans la neige poudreuse et 
 cela jusqu’aux voitures. A treize heures\, nous arrivons au restaurant d
 e Zollhaus pour découvrir la victoire de Beat Feuz au Lauberhorn et passe
 r un très agréable moment à table entre Amis. Merci aussi à Daniel And
 rey d’avoir constamment fermé la colonne pour notre plus grande sécuri
 té. En me réjouissant déjà de notre prochaine sortie\, je vous transme
 ts mes meilleurs messages d’amitié. Pierre-Yves Blanc RC La Chaux-de-Fo
 nds\n\nRotarische Skitour zum Bürglen (2165m) im Berner Oberland\nAm 18. 
 Januar hat sich die Rotary Randogruppe in Zollhaus verabredet um mit\nSki 
 und Fellen den Schnee im Berner Oberland zu geniessen und Rotarische\nFreu
 ndschaft zu pflegen. Unter Leitung von Jean-Michel Nikles dem\nPräsidente
 n des RC Fribourg wurden zuerst bei einem Kaffee die Route\,\nSicherheit u
 nd Lawingefahr im Detail besprochen. 20cm frisch gefallener\nSchnee und st
 rahlendes Wetter versprachen einen Ausflug unter besten\nBedinungen. 10 Ro
 tarier aus Fribourg\, Romont und vom RC Léman-Riviera\nstarteten wenig sp
 äter von der unteren Gantrischhütte in Richtung\nMorgetenpass und weiter
  zum Bürglen\, welcher mühelos bald erreicht war und\neine wunderbare Au
 ssicht auf Eiger Mönch und Jungfrau und über weite Teile\ndes Freiburger
  Landes bot. Nach dem Gipfelfoto hiess es Felle verstauen und\ngenussvoll 
 Zöpfe in den frisch gefallen Pulver zu ziehen\, was den versierten\nskifa
 hrern bestens gelang. Beim anschliessenden gemeinsamen Mittagessen Im\nZol
 lhaus Restaurant gab es allseits verdienten Lob zum gelungen Ausflug und\n
 regen Austausch zu anstehenden Rotarischen Aktivitäten. Suzanne Cornaz RC
  Léman-Riviera\n\n \n\n 
URL:https://rando.polaris.rotary.ch/it/agenda/show/106782
DTSTART;TZID=Europe/Zurich:20200118T000000
DTEND;TZID=Europe/Zurich:20200118T000000
LOCATION:Préalpes bernoises
CATEGORIES:Rotary
END:VEVENT
BEGIN:VTIMEZONE
TZID:Europe/Zurich
BEGIN:STANDARD
DTSTART:20200118T000000
TZNAME:CET
TZOFFSETTO:+0100
TZOFFSETFROM:+0100
END:STANDARD
END:VTIMEZONE
END:VCALENDAR
